BEGIN:VCALENDAR
VERSION:2.0
PRODID:-//Southampton Film Week - ECPv6.2.1//NONSGML v1.0//EN
CALSCALE:GREGORIAN
METHOD:PUBLISH
X-WR-CALNAME:Southampton Film Week
X-ORIGINAL-URL:https://southamptonfilmweek.com
X-WR-CALDESC:Events for Southampton Film Week
REFRESH-INTERVAL;VALUE=DURATION:PT1H
X-Robots-Tag:noindex
X-PUBLISHED-TTL:PT1H
BEGIN:VTIMEZONE
TZID:UTC
BEGIN:STANDARD
TZOFFSETFROM:+0000
TZOFFSETTO:+0000
TZNAME:UTC
DTSTART:20220101T000000
END:STANDARD
END:VTIMEZONE
BEGIN:VEVENT
DTSTART;TZID=UTC:20221117T190000
DTEND;TZID=UTC:20221117T220000
DTSTAMP:20260420T111004
CREATED:20221101T141406Z
LAST-MODIFIED:20221116T134056Z
UID:6214-1668711600-1668722400@southamptonfilmweek.com
SUMMARY:SFW22: Interstellar
DESCRIPTION:Interstellar (2014)\nThursday 17 November at 7:00pm\nDir. Christopher Nolan | USA | 2hr 49m | 12 | Sci-fi/Adventure| English Subtitles | Introduced by Nolan scholar Dr Stuart Joy  \nA team of explorers travel through a wormhole in space attempting to ensure humanity’s survival. Christopher Nolan’s out of this world sci-fi epic\, introduced by Nolan scholar Doctor Stuart Joy.  \n \nIn Earth’s future\, a global crop blight and second Dust Bowl are slowly rendering the planet uninhabitable. Professor Brand (Michael Caine)\, a brilliant NASA physicist\, is working on plans to save mankind by transporting Earth’s population to a new home via a wormhole. But first\, Brand must send former NASA pilot Cooper (Matthew McConaughey) and a team of researchers through the wormhole and across the galaxy to find out which of three planets could be mankind’s new home.  \nWe’re thrilled to offer the chance to watch this sci-fi epic on a big screen where the mind-bending spectacle can be experienced as it deserves. Plus\, an introduction to Interstellar and Nolan from Solent University professor\, Dr Stuart Joy.  Stuart’s research interests include contemporary film theory and practice\, media and cultural theory\, film history and gender representation in film and television\, and he is the author of The Traumatic Screen: The Films of Christopher Nolan (2020) and co-editor of The Cinema of Christopher Nolan: Imagining the Impossible (2015)\, Through the Black Mirror: Reflections on the Digital Age (2019) and Contemporary American Science Fiction Film (2022).  \n“Brainy\, barmy and beautiful to behold\, this is Stephen Hawking’s Star Trek: a mind-bending opera of space and time with a soul wrapped up in all the science.” – Empire  \nPlease note\, due to the length of the film the screening will begin promptly at 7:00pm.  \n\nAn out of this world phenomenon\, Interstellar will be screening at MAST Mayflower Studios on Thursday 17 November. Tickets available through the MAST box office! \nThis performance will be relaxed. There is a relaxed attitude to noise and movement\, and a chillout space will be available before\, during and after the show for anyone that needs a quiet space.  \n is run by film charity      Charity Number 1089882
URL:https://southamptonfilmweek.com/event/sfw22-interstellar
LOCATION:MAST Mayflower Studios\, 142 - 144 Above Bar Street\, Southampton\, Hampshire\, SO14 7DU\, United Kingdom
CATEGORIES:Feature Film,Nolan,Science Fiction,SFW2022,Talk
ATTACH;FMTTYPE=image/jpeg:https://southamptonfilmweek.com/wp-content/uploads/2022/10/interstellar2.jpg
END:VEVENT
BEGIN:VEVENT
DTSTART;TZID=UTC:20221117T133000
DTEND;TZID=UTC:20221117T143000
DTSTAMP:20260420T111004
CREATED:20221026T154648Z
LAST-MODIFIED:20221116T134055Z
UID:6149-1668691800-1668695400@southamptonfilmweek.com
SUMMARY:SFW22: The Experimental Short Films of Christopher Nolan - Solent University
DESCRIPTION:The Experimental Short Films of Christopher Nolan with Dr. Stuart Joy\nThursday 17 November at 1:30pm\n\n\nProduced during his formative years as a student\, Christopher Nolan‘s short films have attracted little attention when set against the backdrop of his feature filmmaking. This is partly because Tarantella (1989) and Larceny (1996) have not been made widely available. However\, in April 2021\, a copy of Tarantella was briefly uploaded to YouTube before being removed in response to a copyright claim made by Nolan‘s production company. It is unclear why the director is unwilling to allow audiences to see what he has referred to in the past as “just a surreal short\, a string of images\,” but his hesitancy to do so speaks to a wider disregard for the short film form among both critics and scholars. This talk attempts to address the assumptions surrounding the artistic and cultural value afforded to short films by offering an in-depth discussion of the elusive Tarantella and another Nolan short\, Doodlebug.\n\n \nFor fans of Christopher Nolan\, Southampton Film Week will also be screening his sci-fi epic ‘Interstellar’ later in the evening of Thursday 17 November. Click here to book! \n is run by film charity      Charity Number 1089882 \nWe are delighted\, with support of our partners\, to present a number of events for free but if you are able to make a donation when purchasing your ticket or attending an event we will be incredibly grateful – and able to sustain City Eye and Southampton Film Week for years to come!  Thank you.
URL:https://southamptonfilmweek.com/event/sfw22-the-experimental-short-films-of-christopher-nolan-solent-university
LOCATION:Palmerston Lecture Theatre\, Solent University\, Solent University\, East Park Terrace\, Southampton\, SO14 0LY\, United Kingdom
CATEGORIES:Industry workshop/masterclass,Nolan,SFW2022,Short Films,Talk
ATTACH;FMTTYPE=image/jpeg:https://southamptonfilmweek.com/wp-content/uploads/2022/10/doodlebug.jpg
END:VEVENT
END:VCALENDAR